BEGIN:VCALENDAR
VERSION:2.0
PRODID:-//Old Mill Aikido - ECPv6.15.20//NONSGML v1.0//EN
CALSCALE:GREGORIAN
METHOD:PUBLISH
X-WR-CALNAME:Old Mill Aikido
X-ORIGINAL-URL:https://www.oldmillaikido.com
X-WR-CALDESC:Events for Old Mill Aikido
REFRESH-INTERVAL;VALUE=DURATION:PT1H
X-Robots-Tag:noindex
X-PUBLISHED-TTL:PT1H
BEGIN:VTIMEZONE
TZID:Europe/Berlin
BEGIN:DAYLIGHT
TZOFFSETFROM:+0100
TZOFFSETTO:+0200
TZNAME:CEST
DTSTART:20220327T010000
END:DAYLIGHT
BEGIN:STANDARD
TZOFFSETFROM:+0200
TZOFFSETTO:+0100
TZNAME:CET
DTSTART:20221030T010000
END:STANDARD
BEGIN:DAYLIGHT
TZOFFSETFROM:+0100
TZOFFSETTO:+0200
TZNAME:CEST
DTSTART:20230326T010000
END:DAYLIGHT
BEGIN:STANDARD
TZOFFSETFROM:+0200
TZOFFSETTO:+0100
TZNAME:CET
DTSTART:20231029T010000
END:STANDARD
BEGIN:DAYLIGHT
TZOFFSETFROM:+0100
TZOFFSETTO:+0200
TZNAME:CEST
DTSTART:20240331T010000
END:DAYLIGHT
BEGIN:STANDARD
TZOFFSETFROM:+0200
TZOFFSETTO:+0100
TZNAME:CET
DTSTART:20241027T010000
END:STANDARD
END:VTIMEZONE
BEGIN:VEVENT
DTSTART;TZID=Europe/Berlin:20230909T130000
DTEND;TZID=Europe/Berlin:20230909T180000
DTSTAMP:20260420T151331
CREATED:20230212T184644Z
LAST-MODIFIED:20230930T123213Z
UID:1023-1694264400-1694282400@www.oldmillaikido.com
SUMMARY:Last Seminar 2023
DESCRIPTION:Seminar 2023\nThe last seminar was held on  September 9th from 1330 until 1800 \nInstructors\n\n\n\nJürgen Schwendinger\n5th Dan\nDornbirn\n\n\nMonika Dörig\n2nd Dan\nSchönengrund\n\n\n\nSchedule \n\n\n\nSaturday\, 09.09.2023\n \n\n\n13:00\nRegistration\n\n\n13.30 – 18.00\nPractice\n\n\nSnack and a drink\n \n\n\n\nCosts / Fees\n(in CHF oder Euro)\, Birankai Shidoins or Shihans practice for free \nSeminar:                         30.– \nReduced price:              20.– \nReduced Rate (students\, unemployed\, Birankai Fukoshidoin)\nSnack\nPer meal 15.– \nEvent Registration \n\n\n\n\n\n\n\n\n 
URL:https://www.oldmillaikido.com/event/seminar-2023/
LOCATION:Old Mill Aikido Seminar 2023\, Unterdorf 16\, Schönengrund\, Switzerland
END:VEVENT
END:VCALENDAR